BEGIN:VCALENDAR
PRODID:-//kirchenweb.ch gmbh//veranstaltungsausgabe v2.0//DE
VERSION:2.0
METHOD:PUBLISH
BEGIN:VEVENT
DTSTART:20270327T163000Z
DTEND:20270327T173000Z
LOCATION:Andreas-Saal\, Merkurstrasse 3\, 9200 Gossau
TRANSP:OPAQUE
SEQUENCE:0
UID:51802-veranstaltung@seelsorgeeinheitgossau.ch
DTSTAMP:20260415T123128Z
DESCRIPTION:Kontakt: HW\n\nWeitere Infos:
  https://www.seelsorgeeinheitgossau.ch/veranstaltung/51802
SUMMARY:Osterfeier für Familien im Andreas-Saal
PRIORITY:5
X-MICROSOFT-CDO-IMPORTANCE:1
CLASS:PUBLIC
END:VEVENT
END:VCALENDAR
