BEGIN:VCALENDAR
PRODID:-//kirchenweb.ch gmbh//veranstaltungsausgabe v2.0//DE
VERSION:2.0
METHOD:PUBLISH
BEGIN:VEVENT
DTSTART:20261025T093000Z
DTEND:20261025T103000Z
LOCATION:Andreaskirche\, Herisauerstrasse 1\, 9200 Gossau
TRANSP:OPAQUE
SEQUENCE:0
UID:51791-veranstaltung@seelsorgeeinheitgossau.ch
DTSTAMP:20260416T083852Z
DESCRIPTION:Kontakt: FF/FS\n\nWeitere Infos:
  https://www.seelsorgeeinheitgossau.ch/veranstaltung/51791
SUMMARY:kuk Familiengottesdienst in der Andreaskirche
PRIORITY:5
X-MICROSOFT-CDO-IMPORTANCE:1
CLASS:PUBLIC
END:VEVENT
END:VCALENDAR
