BEGIN:VCALENDAR
PRODID:-//kirchenweb.ch gmbh//veranstaltungsausgabe v2.0//DE
VERSION:2.0
METHOD:PUBLISH
BEGIN:VEVENT
DTSTART:20260913T073000Z
DTEND:20260913T113000Z
LOCATION:Andreas-Saal\, Merkurstrasse 3\, 9200 Gossau
TRANSP:OPAQUE
SEQUENCE:0
UID:51790-veranstaltung@seelsorgeeinheitgossau.ch
DTSTAMP:20260413T145234Z
DESCRIPTION:Kontakt: FF\n\nWeitere Infos:
  https://www.seelsorgeeinheitgossau.ch/veranstaltung/51790
SUMMARY:Kirche Kunterbunt im Andreas-Saal
PRIORITY:5
X-MICROSOFT-CDO-IMPORTANCE:1
CLASS:PUBLIC
END:VEVENT
END:VCALENDAR
