BEGIN:VCALENDAR
PRODID:-//kirchenweb.ch gmbh//veranstaltungsausgabe v2.0//DE
VERSION:2.0
METHOD:PUBLISH
BEGIN:VEVENT
DTSTART:20271224T153000Z
DTEND:20271224T163000Z
LOCATION:Pauluskirche\, Otmarstrasse 24\, 9200 Gossau
TRANSP:OPAQUE
SEQUENCE:0
UID:51379-veranstaltung@seelsorgeeinheitgossau.ch
DTSTAMP:20260312T154242Z
DESCRIPTION:Kontakt:  \n\nWeitere Infos:
  https://www.seelsorgeeinheitgossau.ch/veranstaltung/51379
SUMMARY:Weihnachtsgottesdienst für Familien in der Pauluskirche
PRIORITY:5
X-MICROSOFT-CDO-IMPORTANCE:1
CLASS:PUBLIC
END:VEVENT
END:VCALENDAR
