BEGIN:VCALENDAR
PRODID:-//kirchenweb.ch gmbh//veranstaltungsausgabe v2.0//DE
VERSION:2.0
METHOD:PUBLISH
BEGIN:VEVENT
DTSTART:20260529T160000Z
DTEND:20260529T170000Z
LOCATION:Pauluszentrum\, Otmarstrasse 24\, 9200 Gossau
TRANSP:OPAQUE
SEQUENCE:0
UID:51300-veranstaltung@seelsorgeeinheitgossau.ch
DTSTAMP:20260305T143307Z
DESCRIPTION:Kontakt: admin.sekretariat@seelsorgeeinheitgossau.ch\n
 \nWeitere Infos: https://www.seelsorgeeinheitgossau.ch/veranstaltung/51300
SUMMARY:Expertensingen Jodlerverband im Pauluszentrum
PRIORITY:5
X-MICROSOFT-CDO-IMPORTANCE:1
CLASS:PUBLIC
END:VEVENT
END:VCALENDAR
