BEGIN:VCALENDAR
PRODID:-//kirchenweb.ch gmbh//veranstaltungsausgabe v2.0//DE
VERSION:2.0
METHOD:PUBLISH
BEGIN:VEVENT
DTSTART:20260502T090000Z
DTEND:20260502T100000Z
LOCATION:Marienkapelle\, Friedberg\, 9200 Gossau
TRANSP:OPAQUE
SEQUENCE:0
UID:51267-veranstaltung@seelsorgeeinheitgossau.ch
DTSTAMP:20260225T084538Z
DESCRIPTION:Kontakt: admin.sekretariat@seelsorgeeinheitgossau.ch\n
 \nWeitere Infos: https://www.seelsorgeeinheitgossau.ch/veranstaltung/51267
SUMMARY:Taufe in der Marienkapelle
PRIORITY:5
X-MICROSOFT-CDO-IMPORTANCE:1
CLASS:PUBLIC
END:VEVENT
END:VCALENDAR
