BEGIN:VCALENDAR
PRODID:-//kirchenweb.ch gmbh//veranstaltungsausgabe v2.0//DE
VERSION:2.0
METHOD:PUBLISH
BEGIN:VEVENT
DTSTART:20260816T091500Z
DTEND:20260816T101500Z
LOCATION:Andreas-Saal\, Merkurstrasse 3\, 9200 Gossau
TRANSP:OPAQUE
SEQUENCE:0
UID:51216-veranstaltung@seelsorgeeinheitgossau.ch
DTSTAMP:20260219T124140Z
DESCRIPTION:Kontakt: admin.sekretariat@seelsorgeeinheitgossau.ch\n
 \nWeitere Infos: https://www.seelsorgeeinheitgossau.ch/veranstaltung/51216
SUMMARY:Apero nach Miniaufnahme im Andreas-Saal
PRIORITY:5
X-MICROSOFT-CDO-IMPORTANCE:1
CLASS:PUBLIC
END:VEVENT
END:VCALENDAR
