BEGIN:VCALENDAR
PRODID:-//kirchenweb.ch gmbh//veranstaltungsausgabe v2.0//DE
VERSION:2.0
METHOD:PUBLISH
BEGIN:VEVENT
DTSTART:20270306T070000Z
DTEND:20270306T103000Z
LOCATION:Andreaskirche\, Herisauerstrasse 1\, 9200 Gossau
TRANSP:OPAQUE
SEQUENCE:0
UID:50678-veranstaltung@seelsorgeeinheitgossau.ch
DTSTAMP:20260206T080253Z
DESCRIPTION:Kontakt:  JK/FF\n\nWeitere Infos:
  https://www.seelsorgeeinheitgossau.ch/veranstaltung/50678
SUMMARY:Versöhnungsweg 6. Klasse in der Andreaskirche
PRIORITY:5
X-MICROSOFT-CDO-IMPORTANCE:1
CLASS:PUBLIC
END:VEVENT
END:VCALENDAR
