BEGIN:VCALENDAR
PRODID:-//kirchenweb.ch gmbh//veranstaltungsausgabe v2.0//DE
VERSION:2.0
METHOD:PUBLISH
BEGIN:VEVENT
DTSTART:20260428T173000Z
DTEND:20260428T193000Z
LOCATION:Pauluszentrum\, Otmarstrasse 24\, 9200 Gossau
TRANSP:OPAQUE
SEQUENCE:0
UID:50248-veranstaltung@seelsorgeeinheitgossau.ch
DTSTAMP:20251212T074526Z
DESCRIPTION:Kontakt: admin.sekretariat@seelsorgeeinheitgossau.ch\n
 \nWeitere Infos: https://www.seelsorgeeinheitgossau.ch/veranstaltung/50248
SUMMARY:Probe Stadtjodler im Pauluszentrum
PRIORITY:5
X-MICROSOFT-CDO-IMPORTANCE:1
CLASS:PUBLIC
END:VEVENT
END:VCALENDAR
