BEGIN:VCALENDAR
PRODID:-//kirchenweb.ch gmbh//veranstaltungsausgabe v2.0//DE
VERSION:2.0
METHOD:PUBLISH
BEGIN:VEVENT
DTSTART:20270130T083000Z
DTEND:20270130T093000Z
LOCATION:Andreaskirche\, Herisauerstrasse 1\, 9200 Gossau
TRANSP:OPAQUE
SEQUENCE:0
UID:49238-veranstaltung@seelsorgeeinheitgossau.ch
DTSTAMP:20260415T144158Z
DESCRIPTION:Kontakt: FF\n\nWeitere Infos:
  https://www.seelsorgeeinheitgossau.ch/veranstaltung/49238
SUMMARY:Tauffamilien-Treffen mit Segensfeier in der Andreaskirche
PRIORITY:5
X-MICROSOFT-CDO-IMPORTANCE:1
CLASS:PUBLIC
END:VEVENT
END:VCALENDAR
