BEGIN:VCALENDAR
PRODID:-//kirchenweb.ch gmbh//veranstaltungsausgabe v2.0//DE
VERSION:2.0
METHOD:PUBLISH
BEGIN:VEVENT
DTSTART:20260424T130000Z
DTEND:20260424T140000Z
LOCATION:Vita Tertia\, Haldenstrasse 46\, 9200 Gossau
TRANSP:OPAQUE
SEQUENCE:0
UID:48171-veranstaltung@seelsorgeeinheitgossau.ch
DTSTAMP:20260205T073507Z
DESCRIPTION:Kontakt: admin.sekretariat@seelsorgeeinheitgossau.ch\n
 \nWeitere Infos: https://www.seelsorgeeinheitgossau.ch/veranstaltung/48171
SUMMARY:Eucharistiefeier im Vita Tertia
PRIORITY:5
X-MICROSOFT-CDO-IMPORTANCE:1
CLASS:PUBLIC
END:VEVENT
END:VCALENDAR
