BEGIN:VCALENDAR
PRODID:-//kirchenweb.ch gmbh//veranstaltungsausgabe v2.0//DE
VERSION:2.0
METHOD:PUBLISH
BEGIN:VEVENT
DTSTART:20260421T081500Z
DTEND:20260421T091500Z
LOCATION:Casa Solaris\, Herisauerstrasse 40\, 9200 Gossau
TRANSP:OPAQUE
SEQUENCE:0
UID:48117-veranstaltung@seelsorgeeinheitgossau.ch
DTSTAMP:20260205T073307Z
DESCRIPTION:Kontakt: admin.sekretariat@seelsorgeeinheitgossau.ch\n
 \nWeitere Infos: https://www.seelsorgeeinheitgossau.ch/veranstaltung/48117
SUMMARY:Eucharistiefeier im Casa Solaris
PRIORITY:5
X-MICROSOFT-CDO-IMPORTANCE:1
CLASS:PUBLIC
END:VEVENT
END:VCALENDAR
