BEGIN:VCALENDAR
PRODID:-//kirchenweb.ch gmbh//veranstaltungsausgabe v2.0//DE
VERSION:2.0
METHOD:PUBLISH
BEGIN:VEVENT
DTSTART:20260317T091500Z
DTEND:20260317T101500Z
LOCATION:Casa Solaris\, Herisauerstrasse 40\, 9200 Gossau
TRANSP:OPAQUE
SEQUENCE:0
UID:48116-veranstaltung@seelsorgeeinheitgossau.ch
DTSTAMP:20251022T115837Z
DESCRIPTION:Kontakt: admin.sekretariat@seelsorgeeinheitgossau.ch\n
 \nWeitere Infos: https://www.seelsorgeeinheitgossau.ch/veranstaltung/48116
SUMMARY:Eucharistiefeier im Casa Solaris
PRIORITY:5
X-MICROSOFT-CDO-IMPORTANCE:1
CLASS:PUBLIC
END:VEVENT
END:VCALENDAR
