BEGIN:VCALENDAR
PRODID:-//kirchenweb.ch gmbh//veranstaltungsausgabe v2.0//DE
VERSION:2.0
METHOD:PUBLISH
BEGIN:VEVENT
DTSTART:20260420T074500Z
DTEND:20260420T083000Z
LOCATION:Altersheim Abendruh\, Bedastrasse 19\, 9200 Gossau
TRANSP:OPAQUE
SEQUENCE:0
UID:48056-veranstaltung@seelsorgeeinheitgossau.ch
DTSTAMP:20260205T073245Z
DESCRIPTION:Kontakt: admin.sekretariat@seelsorgeeinheitgossau.ch\n
 \nWeitere Infos: https://www.seelsorgeeinheitgossau.ch/veranstaltung/48056
SUMMARY:Eucharistiefeier in der Abendruh
PRIORITY:5
X-MICROSOFT-CDO-IMPORTANCE:1
CLASS:PUBLIC
END:VEVENT
END:VCALENDAR
