BEGIN:VCALENDAR
PRODID:-//kirchenweb.ch gmbh//veranstaltungsausgabe v2.0//DE
VERSION:2.0
METHOD:PUBLISH
BEGIN:VEVENT
DTSTART:20260429T193000Z
DTEND:20260429T200000Z
LOCATION:Andreaskirche\, Herisauerstrasse 1\, 9200 Gossau
TRANSP:OPAQUE
SEQUENCE:0
UID:47926-veranstaltung@seelsorgeeinheitgossau.ch
DTSTAMP:20250610T053133Z
DESCRIPTION:Kontakt: SiS\n\nWeitere Infos:
  https://www.seelsorgeeinheitgossau.ch/veranstaltung/47926
SUMMARY:Begegnungsabend mit Firmspender\, Andreaskirche
PRIORITY:5
X-MICROSOFT-CDO-IMPORTANCE:1
CLASS:PUBLIC
END:VEVENT
END:VCALENDAR
