BEGIN:VCALENDAR
PRODID:-//kirchenweb.ch gmbh//veranstaltungsausgabe v2.0//DE
VERSION:2.0
METHOD:PUBLISH
BEGIN:VEVENT
DTSTART:20250921T100000Z
DTEND:20250921T110000Z
LOCATION:Pauluskirche\, Otmarstrasse 28\, 9200 Gossau
TRANSP:OPAQUE
SEQUENCE:0
UID:47821-veranstaltung@seelsorgeeinheitgossau.ch
DTSTAMP:20250724T063042Z
DESCRIPTION:Kontakt: admin.sekretariat@seelsorgeeinheitgossau.ch\n
 \nWeitere Infos: https://www.seelsorgeeinheitgossau.ch/veranstaltung/47821
SUMMARY:Taufe in der Pauluskirche
PRIORITY:5
X-MICROSOFT-CDO-IMPORTANCE:1
CLASS:PUBLIC
END:VEVENT
END:VCALENDAR
