BEGIN:VCALENDAR
PRODID:-//kirchenweb.ch gmbh//veranstaltungsausgabe v2.0//DE
VERSION:2.0
METHOD:PUBLISH
BEGIN:VEVENT
DTSTART:20250917T170000Z
DTEND:20250917T190000Z
LOCATION:Friedeggtreff\, 9200 Gossau\, \,
TRANSP:OPAQUE
SEQUENCE:0
UID:47674-veranstaltung@seelsorgeeinheitgossau.ch
DTSTAMP:20250512T062407Z
DESCRIPTION:Kontakt: admin.sekretariat@seelsorgeeinheitgossau.ch\n
 \nWeitere Infos: https://www.seelsorgeeinheitgossau.ch/veranstaltung/47674
SUMMARY:TRAUERCAFE im Friedeggtreff
PRIORITY:5
X-MICROSOFT-CDO-IMPORTANCE:1
CLASS:PUBLIC
END:VEVENT
END:VCALENDAR
