BEGIN:VCALENDAR
PRODID:-//kirchenweb.ch gmbh//veranstaltungsausgabe v2.0//DE
VERSION:2.0
METHOD:PUBLISH
BEGIN:VEVENT
DTSTART:20250328T180000Z
DTEND:20250328T193000Z
LOCATION:Westhouse\, Neuchlenstrasse 38\, 9200 Gossau
TRANSP:OPAQUE
SEQUENCE:0
UID:46272-veranstaltung@seelsorgeeinheitgossau.ch
DTSTAMP:20250103T072142Z
DESCRIPTION:drinks - snacks - fun - friends - music\n\nTreffe dich mit
  deinen Freunden und geniesse freshe Drinks und Snacks. \nFür Jugendliche
  der 5. bis 6. Klasse von 18.00 bis 20.00 Uhr\nFür Jugendliche der 7. bis
  9. Klasse von 18.00 bis 22.30 Uhr\nImmer am 2. und 4. Freitag im Monat\n
 \nKontakt: admin.sekretariat@seelsorgeeinheitgossau.ch\n\nWeitere Infos:
  https://www.seelsorgeeinheitgossau.ch/veranstaltung/46272
SUMMARY:Westhouse Jugend-Treff
PRIORITY:5
X-MICROSOFT-CDO-IMPORTANCE:1
CLASS:PUBLIC
END:VEVENT
END:VCALENDAR
