BEGIN:VCALENDAR
PRODID:-//kirchenweb.ch gmbh//veranstaltungsausgabe v2.0//DE
VERSION:2.0
METHOD:PUBLISH
BEGIN:VEVENT
DTSTART:20250322T133000Z
DTEND:20250322T143000Z
LOCATION:Andreas-Saal\, Merkurstrasse 3\, 9200 Gossau
TRANSP:OPAQUE
SEQUENCE:0
UID:45613-veranstaltung@seelsorgeeinheitgossau.ch
DTSTAMP:20241016T071156Z
DESCRIPTION:Kontakt: admin.sekretariat@seelsorgeeinheitgossau.ch\n
 \nWeitere Infos: https://www.seelsorgeeinheitgossau.ch/veranstaltung/45613
SUMMARY:Abteilungsversammlung Pfadi St. Georg im Andreas-Saal
PRIORITY:5
X-MICROSOFT-CDO-IMPORTANCE:1
CLASS:PUBLIC
END:VEVENT
END:VCALENDAR
