BEGIN:VCALENDAR
PRODID:-//kirchenweb.ch gmbh//veranstaltungsausgabe v2.0//DE
VERSION:2.0
METHOD:PUBLISH
BEGIN:VEVENT
DTSTART:20250323T090000Z
DTEND:20250323T100000Z
LOCATION:Pauluszentrum\, Otmarstrasse 24\, 9200 Gossau
TRANSP:OPAQUE
SEQUENCE:0
UID:44290-veranstaltung@seelsorgeeinheitgossau.ch
DTSTAMP:20240704T083915Z
DESCRIPTION:In gemütlicher Runde nach dem Gottesdienst einen Kaffee
  trinken.\n\nKontakt: admin.sekretariat@seelsorgeeinheitgossau.ch\n
 \nWeitere Infos: https://www.seelsorgeeinheitgossau.ch/veranstaltung/44290
SUMMARY:Treffpunkt im Pauluszentrum
PRIORITY:5
X-MICROSOFT-CDO-IMPORTANCE:1
CLASS:PUBLIC
END:VEVENT
END:VCALENDAR
