BEGIN:VCALENDAR
PRODID:-//kirchenweb.ch gmbh//veranstaltungsausgabe v2.0//DE
VERSION:2.0
METHOD:PUBLISH
BEGIN:VEVENT
DTSTART:20250327T071000Z
DTEND:20250327T074000Z
LOCATION:Pauluskirche\, Otmarstrasse 28\, 9200 Gossau
TRANSP:OPAQUE
SEQUENCE:0
UID:44224-veranstaltung@seelsorgeeinheitgossau.ch
DTSTAMP:20240704T065413Z
DESCRIPTION:Kontakt: admin.sekretariat@seelsorgeeinheitgossau.ch\n
 \nWeitere Infos: https://www.seelsorgeeinheitgossau.ch/veranstaltung/44224
SUMMARY:Rosenkranz in der Pauluskirche
PRIORITY:5
X-MICROSOFT-CDO-IMPORTANCE:1
CLASS:PUBLIC
END:VEVENT
END:VCALENDAR
