BEGIN:VCALENDAR
PRODID:-//kirchenweb.ch gmbh//veranstaltungsausgabe v2.0//DE
VERSION:2.0
METHOD:PUBLISH
BEGIN:VEVENT
DTSTART:20250805T081500Z
DTEND:20250805T091500Z
LOCATION:Casa Solaris\, Herisauerstrasse 40\, 9200 Gossau
TRANSP:OPAQUE
SEQUENCE:0
UID:43389-veranstaltung@seelsorgeeinheitgossau.ch
DTSTAMP:20241106T072555Z
DESCRIPTION:Kontakt: admin.sekretariat@seelsorgeeinheitgossau.ch\n
 \nWeitere Infos: https://www.seelsorgeeinheitgossau.ch/veranstaltung/43389
SUMMARY:Wortgottesfeier mit Kommunion im Casa Solaris
PRIORITY:5
X-MICROSOFT-CDO-IMPORTANCE:1
CLASS:PUBLIC
END:VEVENT
END:VCALENDAR
