BEGIN:VCALENDAR
PRODID:-//kirchenweb.ch gmbh//veranstaltungsausgabe v2.0//DE
VERSION:2.0
METHOD:PUBLISH
BEGIN:VEVENT
DTSTART:20251110T084500Z
DTEND:20251110T093000Z
LOCATION:Altersheim Abendruh\, Bedastrasse 19\, 9200 Gossau
TRANSP:OPAQUE
SEQUENCE:0
UID:43374-veranstaltung@seelsorgeeinheitgossau.ch
DTSTAMP:20250613T074731Z
DESCRIPTION:Kontakt: admin.sekretariat@seelsorgeeinheitgossau.ch\n
 \nWeitere Infos: https://www.seelsorgeeinheitgossau.ch/veranstaltung/43374
SUMMARY:Wortgottesfeier mit Kommunion in der Abendruh
PRIORITY:5
X-MICROSOFT-CDO-IMPORTANCE:1
CLASS:PUBLIC
END:VEVENT
END:VCALENDAR
