BEGIN:VCALENDAR
PRODID:-//kirchenweb.ch gmbh//veranstaltungsausgabe v2.0//DE
VERSION:2.0
METHOD:PUBLISH
BEGIN:VEVENT
DTSTART:20250210T090000Z
DTEND:20250210T100000Z
LOCATION:Altersheim Abendruh\, Bedastrasse 19\, 9200 Gossau
TRANSP:OPAQUE
SEQUENCE:0
UID:43356-veranstaltung@seelsorgeeinheitgossau.ch
DTSTAMP:20240905T063207Z
DESCRIPTION:Kontakt: admin.sekretariat@seelsorgeeinheitgossau.ch\n
 \nWeitere Infos: https://www.seelsorgeeinheitgossau.ch/veranstaltung/43356
SUMMARY:Eucharistiefeier in der Abendruh
PRIORITY:5
X-MICROSOFT-CDO-IMPORTANCE:1
CLASS:PUBLIC
END:VEVENT
END:VCALENDAR
