BEGIN:VCALENDAR
PRODID:-//kirchenweb.ch gmbh//veranstaltungsausgabe v2.0//DE
VERSION:2.0
METHOD:PUBLISH
BEGIN:VEVENT
DTSTART:20260913T083000Z
DTEND:20260913T093000Z
LOCATION:Andreaskirche\, Herisauerstrasse 1\, 9200 Gossau
TRANSP:OPAQUE
SEQUENCE:0
UID:42471-veranstaltung@seelsorgeeinheitgossau.ch
DTSTAMP:20260413T145107Z
DESCRIPTION:Kontakt: PF/FF/FS\n\nWeitere Infos:
  https://www.seelsorgeeinheitgossau.ch/veranstaltung/42471
SUMMARY:kuk Familiengottesdienst in der Andreaskirche
PRIORITY:5
X-MICROSOFT-CDO-IMPORTANCE:1
CLASS:PUBLIC
END:VEVENT
END:VCALENDAR
