BEGIN:VCALENDAR
PRODID:-//kirchenweb.ch gmbh//veranstaltungsausgabe v2.0//DE
VERSION:2.0
METHOD:PUBLISH
BEGIN:VEVENT
DTSTART:20261031T164500Z
DTEND:20261031T174500Z
LOCATION:Pauluskirche\, Otmarstrasse 24\, 9200 Gossau
TRANSP:OPAQUE
SEQUENCE:0
UID:42326-veranstaltung@seelsorgeeinheitgossau.ch
DTSTAMP:20260202T071413Z
DESCRIPTION:Kontakt: SIS\n\nWeitere Infos:
  https://www.seelsorgeeinheitgossau.ch/veranstaltung/42326
SUMMARY:Vorabend-Eucharistiefeier in der Pauluskirche
PRIORITY:5
X-MICROSOFT-CDO-IMPORTANCE:1
CLASS:PUBLIC
END:VEVENT
END:VCALENDAR
