BEGIN:VCALENDAR
PRODID:-//kirchenweb.ch gmbh//veranstaltungsausgabe v2.0//DE
VERSION:2.0
METHOD:PUBLISH
BEGIN:VEVENT
DTSTART:20260502T154500Z
DTEND:20260502T164500Z
LOCATION:Pauluskirche\, Otmarstrasse 24\, 9200 Gossau
TRANSP:OPAQUE
SEQUENCE:0
UID:42301-veranstaltung@seelsorgeeinheitgossau.ch
DTSTAMP:20250917T063122Z
DESCRIPTION:Kontakt: SIS\n\nWeitere Infos:
  https://www.seelsorgeeinheitgossau.ch/veranstaltung/42301
SUMMARY:Vorabend-Eucharistiefeier in der Pauluskirche
PRIORITY:5
X-MICROSOFT-CDO-IMPORTANCE:1
CLASS:PUBLIC
END:VEVENT
END:VCALENDAR
