BEGIN:VCALENDAR
PRODID:-//kirchenweb.ch gmbh//veranstaltungsausgabe v2.0//DE
VERSION:2.0
METHOD:PUBLISH
BEGIN:VEVENT
DTSTART:20250419T183000Z
DTEND:20250419T193000Z
LOCATION:Pauluskirche\, Otmarstrasse 24\, 9200 Gossau
TRANSP:OPAQUE
SEQUENCE:0
UID:38969-veranstaltung@seelsorgeeinheitgossau.ch
DTSTAMP:20250922T055359Z
DESCRIPTION:Beginn beim Osterfeuer\, nach dem Gottesdienst Eiertütschen.
 \n\nKontakt: SIS\n\nWeitere Infos:
  https://www.seelsorgeeinheitgossau.ch/veranstaltung/38969
SUMMARY:Osternacht\, Eucharistiefeier in der Pauluskirche
PRIORITY:5
X-MICROSOFT-CDO-IMPORTANCE:1
CLASS:PUBLIC
END:VEVENT
END:VCALENDAR
