BEGIN:VCALENDAR
PRODID:-//kirchenweb.ch gmbh//veranstaltungsausgabe v2.0//DE
VERSION:2.0
METHOD:PUBLISH
BEGIN:VEVENT
DTSTART:20251105T080000Z
DTEND:20251105T090000Z
LOCATION:Andreaskirche\, Herisauerstrasse 1\, 9200 Gossau
TRANSP:OPAQUE
SEQUENCE:0
UID:38805-veranstaltung@seelsorgeeinheitgossau.ch
DTSTAMP:20250523T072620Z
DESCRIPTION:Gottesdienst mit der Frauengemeinschaft Andreas. Anschliessend
  Kaffee-Treff.\n\nKontakt: admin.sekretariat@seelsorgeeinheitgossau.ch\n
 \nWeitere Infos: https://www.seelsorgeeinheitgossau.ch/veranstaltung/38805
SUMMARY:Eucharistiefeier in der Andreaskirche
PRIORITY:5
X-MICROSOFT-CDO-IMPORTANCE:1
CLASS:PUBLIC
END:VEVENT
END:VCALENDAR
