BEGIN:VCALENDAR
PRODID:-//kirchenweb.ch gmbh//veranstaltungsausgabe v2.0//DE
VERSION:2.0
METHOD:PUBLISH
BEGIN:VEVENT
DTSTART:20250323T093000Z
DTEND:20250323T103000Z
LOCATION:Andreaskirche\, Herisauerstrasse 1\, 9200 Gossau
TRANSP:OPAQUE
SEQUENCE:0
UID:38649-veranstaltung@seelsorgeeinheitgossau.ch
DTSTAMP:20250320T121914Z
DESCRIPTION:Kontakt: PF\n\nWeitere Infos:
  https://www.seelsorgeeinheitgossau.ch/veranstaltung/38649
SUMMARY:kuk Familiengottesdienst in der Andreaskirche
PRIORITY:5
X-MICROSOFT-CDO-IMPORTANCE:1
CLASS:PUBLIC
END:VEVENT
END:VCALENDAR
