BEGIN:VCALENDAR
PRODID:-//kirchenweb.ch gmbh//veranstaltungsausgabe v2.0//DE
VERSION:2.0
METHOD:PUBLISH
BEGIN:VEVENT
DTSTART:20250209T093000Z
DTEND:20250209T103000Z
LOCATION:Andreaskirche\, Herisauerstrasse 1\, 9200 Gossau
TRANSP:OPAQUE
SEQUENCE:0
UID:38643-veranstaltung@seelsorgeeinheitgossau.ch
DTSTAMP:20241031T155237Z
DESCRIPTION:Kontakt: SIS\n\nWeitere Infos:
  https://www.seelsorgeeinheitgossau.ch/veranstaltung/38643
SUMMARY:Eucharistiefeier in der Andreaskirche
PRIORITY:5
X-MICROSOFT-CDO-IMPORTANCE:1
CLASS:PUBLIC
END:VEVENT
END:VCALENDAR
