BEGIN:VCALENDAR
PRODID:-//kirchenweb.ch gmbh//veranstaltungsausgabe v2.0//DE
VERSION:2.0
METHOD:PUBLISH
BEGIN:VEVENT
DTSTART:20250322T164500Z
DTEND:20250322T174500Z
LOCATION:Pauluskirche\, Otmarstrasse 24\, 9200 Gossau
TRANSP:OPAQUE
SEQUENCE:0
UID:38597-veranstaltung@seelsorgeeinheitgossau.ch
DTSTAMP:20241104T103545Z
DESCRIPTION:Kontakt: UK\n\nWeitere Infos:
  https://www.seelsorgeeinheitgossau.ch/veranstaltung/38597
SUMMARY:Vorabend-Eucharistiefeier Pauluskirche
PRIORITY:5
X-MICROSOFT-CDO-IMPORTANCE:1
CLASS:PUBLIC
END:VEVENT
END:VCALENDAR
