BEGIN:VCALENDAR
PRODID:-//kirchenweb.ch gmbh//veranstaltungsausgabe v2.0//DE
VERSION:2.0
METHOD:PUBLISH
BEGIN:VEVENT
DTSTART:20250209T081500Z
DTEND:20250209T091500Z
LOCATION:Pauluskirche\, Otmarstrasse 24\, 9200 Gossau
TRANSP:OPAQUE
SEQUENCE:0
UID:38537-veranstaltung@seelsorgeeinheitgossau.ch
DTSTAMP:20241031T155227Z
DESCRIPTION:Kontakt: SIS\n\nWeitere Infos:
  https://www.seelsorgeeinheitgossau.ch/veranstaltung/38537
SUMMARY:Eucharistiefeier in der Pauluskirche
PRIORITY:5
X-MICROSOFT-CDO-IMPORTANCE:1
CLASS:PUBLIC
END:VEVENT
END:VCALENDAR
