BEGIN:VCALENDAR
PRODID:-//kirchenweb.ch gmbh//veranstaltungsausgabe v2.0//DE
VERSION:2.0
METHOD:PUBLISH
BEGIN:VEVENT
DTSTART:20250323T071500Z
DTEND:20250323T081500Z
LOCATION:Andreaskirche\, Herisauerstrasse 1\, 9200 Gossau
TRANSP:OPAQUE
SEQUENCE:0
UID:38488-veranstaltung@seelsorgeeinheitgossau.ch
DTSTAMP:20250106T130058Z
DESCRIPTION:Kontakt: admin.sekretariat@seelsorgeeinheitgossau.ch\n
 \nWeitere Infos: https://www.seelsorgeeinheitgossau.ch/veranstaltung/38488
SUMMARY:Eucharistiefeier in der Andreaskirche
PRIORITY:5
X-MICROSOFT-CDO-IMPORTANCE:1
CLASS:PUBLIC
END:VEVENT
END:VCALENDAR
